BEGIN:VCALENDAR
PRODID:-//AT Content Types//AT Event//EN
VERSION:1.0
BEGIN:VEVENT
DTSTART:20191001T080000Z
DTEND:20191001T140000Z
DCREATED:20190905T072300Z
UID:ATEvent-e2bf14c7efe449fda4c31e890fdf2ff8
SEQUENCE:0
LAST-MODIFIED:20190905T072302Z
SUMMARY:Toast Cafe for Pupils
PRIORITY:3
TRANSP:0
END:VEVENT
END:VCALENDAR
