BEGIN:VCALENDAR
PRODID:-//AT Content Types//AT Event//EN
VERSION:2.0
METHOD:PUBLISH
BEGIN:VEVENT
DTSTAMP:20260421T140914Z
CREATED:20181206T165249Z
UID:ATEvent-c7b168bbfdd64681be7c26f71fd46561
LAST-MODIFIED:20181217T091633Z
SUMMARY:School closes for holidays
DTSTART:20181221T120000Z
DTEND:20181221T120000Z
CLASS:PUBLIC
END:VEVENT
END:VCALENDAR
