BEGIN:VCALENDAR
PRODID:-//AT Content Types//AT Event//EN
VERSION:1.0
BEGIN:VEVENT
DTSTART:20140627T110000Z
DTEND:20140627T115500Z
DCREATED:20140213T114154Z
UID:ATEvent-a077d22dcd154bf1bd6c910fa79cee0d
SEQUENCE:0
LAST-MODIFIED:20140213T114302Z
SUMMARY:School Closes 12 noon
DESCRIPTION:School closes for the holidays
PRIORITY:3
TRANSP:0
END:VEVENT
END:VCALENDAR
