BEGIN:VCALENDAR
PRODID:-//AT Content Types//AT Event//EN
VERSION:2.0
METHOD:PUBLISH
BEGIN:VEVENT
DTSTAMP:20260422T162243Z
CREATED:20190422T133339Z
UID:ATEvent-2b25451864f14816b2c51e070d1834aa
LAST-MODIFIED:20190422T133343Z
SUMMARY:Primary 7 Mass
DTSTART:20190626T090000Z
DTEND:20190626T100000Z
DESCRIPTION:Come along and celebrate the last Mass Primary 7 pupils wi
 ll host at St. Joseph's.
LOCATION:St. Joseph's Church
CLASS:PUBLIC
END:VEVENT
END:VCALENDAR
