BEGIN:VCALENDAR
PRODID:-//AT Content Types//AT Event//EN
VERSION:2.0
METHOD:PUBLISH
BEGIN:VEVENT
DTSTAMP:20260421T140418Z
CREATED:20190517T085634Z
UID:ATEvent-19c8d6bf0fe349b6bd5d12fa6391a741
LAST-MODIFIED:20190517T085637Z
SUMMARY:Primary 4 Show - Afternoon Performance
DTSTART:20190621T124500Z
DTEND:20190621T134500Z
CLASS:PUBLIC
END:VEVENT
END:VCALENDAR
