BEGIN:VCALENDAR
PRODID:-//AT Content Types//AT Event//EN
VERSION:1.0
BEGIN:VEVENT
DTSTART:20190530T090000Z
DTEND:20190530T100000Z
DCREATED:20190422T132553Z
UID:ATEvent-bcd9882b9d874417b5792ef710be0b98
SEQUENCE:0
LAST-MODIFIED:20190422T132556Z
SUMMARY:Parish Mass
LOCATION:St Joseph's Church
PRIORITY:3
TRANSP:0
END:VEVENT
END:VCALENDAR
