BEGIN:VCALENDAR
PRODID:-//AT Content Types//AT Event//EN
VERSION:2.0
METHOD:PUBLISH
BEGIN:VEVENT
DTSTAMP:20260420T145616Z
CREATED:20140213T105550Z
UID:ATEvent-d8c7e6f972104a68a748ee3a687c8851
LAST-MODIFIED:20140213T112722Z
SUMMARY:Parents Evening
DTSTART:20140312T160000Z
DTEND:20140312T183000Z
LOCATION:Assembly Hall
CLASS:PUBLIC
END:VEVENT
END:VCALENDAR
