BEGIN:VCALENDAR
PRODID:-//AT Content Types//AT Event//EN
VERSION:2.0
METHOD:PUBLISH
BEGIN:VEVENT
DTSTAMP:20260422T120625Z
CREATED:20190905T072818Z
UID:ATEvent-124289b1f2cc446f9194d15e4094e808
LAST-MODIFIED:20190905T072820Z
SUMMARY:Parents' Evening
DTSTART:20190925T150000Z
DTEND:20190925T170000Z
CLASS:PUBLIC
END:VEVENT
END:VCALENDAR
