BEGIN:VCALENDAR
PRODID:-//AT Content Types//AT Event//EN
VERSION:2.0
METHOD:PUBLISH
BEGIN:VEVENT
DTSTAMP:20260422T064441Z
CREATED:20140213T111408Z
UID:ATEvent-2e1a29670d854ad78942b5d0ddea4eab
LAST-MODIFIED:20140213T112722Z
SUMMARY:P7s to St John's
DTSTART:20140507T080000Z
DTEND:20140507T141500Z
CLASS:PUBLIC
END:VEVENT
END:VCALENDAR
