BEGIN:VCALENDAR
PRODID:-//AT Content Types//AT Event//EN
VERSION:2.0
METHOD:PUBLISH
BEGIN:VEVENT
DTSTAMP:20260421T140112Z
CREATED:20190422T135636Z
UID:ATEvent-65186971ed184ceaa77a5074f5fb9261
LAST-MODIFIED:20190422T135639Z
SUMMARY:P7 / S1 Induction Day
DTSTART:20190612T080000Z
DTEND:20190613T141500Z
CLASS:PUBLIC
END:VEVENT
END:VCALENDAR
