BEGIN:VCALENDAR
PRODID:-//AT Content Types//AT Event//EN
VERSION:1.0
BEGIN:VEVENT
DTSTART:20190528T180000Z
DTEND:20190528T190000Z
DCREATED:20190422T134910Z
UID:ATEvent-063e31208c3a4e719f12d82dba41921a
SEQUENCE:0
LAST-MODIFIED:20190422T134913Z
SUMMARY:P6F pupils to perform “The Gift Project”
LOCATION:Dundee Rep Theatre
PRIORITY:3
TRANSP:0
END:VEVENT
END:VCALENDAR
