BEGIN:VCALENDAR
PRODID:-//AT Content Types//AT Event//EN
VERSION:2.0
METHOD:PUBLISH
BEGIN:VEVENT
DTSTAMP:20260420T142026Z
CREATED:20190422T135744Z
UID:ATEvent-770efdc1a12848cc866077b9cdae0740
LAST-MODIFIED:20190603T165308Z
SUMMARY:Nursery/P1 Induction Day
DTSTART:20190613T090000Z
DTEND:20190613T100000Z
CLASS:PUBLIC
END:VEVENT
END:VCALENDAR
