BEGIN:VCALENDAR
PRODID:-//AT Content Types//AT Event//EN
VERSION:2.0
METHOD:PUBLISH
BEGIN:VEVENT
DTSTAMP:20260420T142926Z
CREATED:20190130T102857Z
UID:ATEvent-988f05e37f3246959b5ceb39e4cf1326
LAST-MODIFIED:20190130T163003Z
SUMMARY:Focus on Play Day - Dress Down Day
DTSTART:20190206T090000Z
DTEND:20190206T153000Z
CLASS:PUBLIC
END:VEVENT
END:VCALENDAR
