BEGIN:VCALENDAR
PRODID:-//AT Content Types//AT Event//EN
VERSION:2.0
METHOD:PUBLISH
BEGIN:VEVENT
DTSTAMP:20260422T101423Z
CREATED:20190422T133428Z
UID:ATEvent-993e6f7410254bfa870b2ffbfb8925ea
LAST-MODIFIED:20190422T133430Z
SUMMARY:End of term! Enjoy your summer everyone!
DTSTART:20190628T110000Z
DTEND:20190628T110500Z
LOCATION:St. Joseph's Primary School
CLASS:PUBLIC
END:VEVENT
END:VCALENDAR
