BEGIN:VCALENDAR
PRODID:-//AT Content Types//AT Event//EN
VERSION:2.0
METHOD:PUBLISH
BEGIN:VEVENT
DTSTAMP:20260422T065932Z
CREATED:20190130T163133Z
UID:ATEvent-fac84b8cc9cb404382e18814992b5f29
LAST-MODIFIED:20190130T163205Z
SUMMARY:City Wide In-Service Day - School Closed to Pupils
DTSTART:20190219T090000Z
DTEND:20190219T153000Z
CLASS:PUBLIC
END:VEVENT
END:VCALENDAR
