BEGIN:VCALENDAR
PRODID:-//AT Content Types//AT Event//EN
VERSION:1.0
BEGIN:VEVENT
DTSTART:20190619T080000Z
DTEND:20190619T140000Z
DCREATED:20190517T085305Z
UID:ATEvent-3966d08a113749d9892f3cc50132207e
SEQUENCE:0
LAST-MODIFIED:20190517T085307Z
SUMMARY:Careers Day for Upper Pupils
PRIORITY:3
TRANSP:0
END:VEVENT
END:VCALENDAR
