BEGIN:VCALENDAR
PRODID:-//AT Content Types//AT Event//EN
VERSION:1.0
BEGIN:VEVENT
DTSTART:20190515T080000Z
DTEND:20190515T141500Z
DCREATED:20190422T134214Z
UID:ATEvent-4d6ad4d56d394e15badc795a52f6355a
SEQUENCE:0
LAST-MODIFIED:20190422T134217Z
SUMMARY:Active Numeracy Day
PRIORITY:3
TRANSP:0
END:VEVENT
END:VCALENDAR
